BEGIN:VCALENDAR
VERSION:2.0
PRODID:-//The PixelSquad - ECPv6.15.18//NONSGML v1.0//EN
CALSCALE:GREGORIAN
METHOD:PUBLISH
X-WR-CALNAME:The PixelSquad
X-ORIGINAL-URL:https://pixelsquad.nl
X-WR-CALDESC:Evenementen voor The PixelSquad
REFRESH-INTERVAL;VALUE=DURATION:PT1H
X-Robots-Tag:noindex
X-PUBLISHED-TTL:PT1H
BEGIN:VTIMEZONE
TZID:Europe/Amsterdam
BEGIN:DAYLIGHT
TZOFFSETFROM:+0100
TZOFFSETTO:+0200
TZNAME:CEST
DTSTART:20220327T010000
END:DAYLIGHT
BEGIN:STANDARD
TZOFFSETFROM:+0200
TZOFFSETTO:+0100
TZNAME:CET
DTSTART:20221030T010000
END:STANDARD
BEGIN:DAYLIGHT
TZOFFSETFROM:+0100
TZOFFSETTO:+0200
TZNAME:CEST
DTSTART:20230326T010000
END:DAYLIGHT
BEGIN:STANDARD
TZOFFSETFROM:+0200
TZOFFSETTO:+0100
TZNAME:CET
DTSTART:20231029T010000
END:STANDARD
BEGIN:DAYLIGHT
TZOFFSETFROM:+0100
TZOFFSETTO:+0200
TZNAME:CEST
DTSTART:20240331T010000
END:DAYLIGHT
BEGIN:STANDARD
TZOFFSETFROM:+0200
TZOFFSETTO:+0100
TZNAME:CET
DTSTART:20241027T010000
END:STANDARD
END:VTIMEZONE
BEGIN:VEVENT
DTSTART;TZID=Europe/Amsterdam:20230610T130000
DTEND;TZID=Europe/Amsterdam:20230610T160000
DTSTAMP:20260420T085007
CREATED:20230504T173019Z
LAST-MODIFIED:20230607T112314Z
UID:6158-1686402000-1686412800@pixelsquad.nl
SUMMARY:Op pad met de Squad | Motorcross
DESCRIPTION:Net zoals vorig jaar mogen we ook dit jaar weer komen fotograferen op de motorcross baan. Houd jij wel van een beetje actie en snelheid? Geef je dan nu snel op via Huddle! \nLet op!\nDeze activiteit is alleen voor leden van The PixelSquad. Wil je graag mee doen? Word nu lid en meld je aan voor de activiteit.
URL:https://pixelsquad.nl/event/op-pad-met-de-squad-motorcross/
CATEGORIES:Op pad met de Squad
ATTACH;FMTTYPE=image/jpeg:https://pixelsquad.nl/wp-content/uploads/2023/05/152523-111909-1.jpg
ORGANIZER;CN="The PixelSquad":MAILTO:info@pixelsquad.nl
END:VEVENT
BEGIN:VEVENT
DTSTART;TZID=Europe/Amsterdam:20230527T123000
DTEND;TZID=Europe/Amsterdam:20230527T163000
DTSTAMP:20260420T085007
CREATED:20230504T173810Z
LAST-MODIFIED:20230504T174340Z
UID:6170-1685190600-1685205000@pixelsquad.nl
SUMMARY:Workshop macro fotografie voor beginners
DESCRIPTION:Bij macro fotografie word een kleine wereld groot. Ook dit jaar kunnen wij weer een aantal macro workshops aanbieden! De macro workshop zullen worden gegeven door Joris Vegter. Hij is winnaar van de National Geografie fotowedstrijd 2022 en dit jaar ook nog de winnaar van de groene camera! Echt een mega macro talent. Check vooral even zn insta op jornature86. Aanmelden kan via Huddle! Vol=Vol! \nLet op!\nDeze workshop is alleen voor leden van The PixelSquad. Wil je graag mee doen? Word nu lid en meld je aan voor de workshop.
URL:https://pixelsquad.nl/event/workshop-macro-fotografie-voor-beginners-3/
CATEGORIES:Workshop
ATTACH;FMTTYPE=image/jpeg:https://pixelsquad.nl/wp-content/uploads/2023/05/190339-img_8538.jpg
ORGANIZER;CN="The PixelSquad":MAILTO:info@pixelsquad.nl
END:VEVENT
BEGIN:VEVENT
DTSTART;TZID=Europe/Amsterdam:20230521T123000
DTEND;TZID=Europe/Amsterdam:20230521T163000
DTSTAMP:20260420T085007
CREATED:20230504T173723Z
LAST-MODIFIED:20230504T174354Z
UID:6168-1684672200-1684686600@pixelsquad.nl
SUMMARY:Workshop macro fotografie voor beginners
DESCRIPTION:Bij macro fotografie word een kleine wereld groot. Ook dit jaar kunnen wij weer een aantal macro workshops aanbieden! De macro workshop zullen worden gegeven door Joris Vegter. Hij is winnaar van de National Geografie fotowedstrijd 2022 en dit jaar ook nog de winnaar van de groene camera! Echt een mega macro talent. Check vooral even zn insta op jornature86. Aanmelden kan via Huddle! Vol=Vol! \nLet op!\nDeze workshop is alleen voor leden van The PixelSquad. Wil je graag mee doen? Word nu lid en meld je aan voor de workshop.
URL:https://pixelsquad.nl/event/workshop-macro-fotografie-voor-beginners-2/
CATEGORIES:Workshop
ATTACH;FMTTYPE=image/jpeg:https://pixelsquad.nl/wp-content/uploads/2023/05/190339-img_8538.jpg
ORGANIZER;CN="The PixelSquad":MAILTO:info@pixelsquad.nl
END:VEVENT
BEGIN:VEVENT
DTSTART;TZID=Europe/Amsterdam:20230520T123000
DTEND;TZID=Europe/Amsterdam:20230520T163000
DTSTAMP:20260420T085007
CREATED:20230504T173543Z
LAST-MODIFIED:20230504T174412Z
UID:6165-1684585800-1684600200@pixelsquad.nl
SUMMARY:Workshop macro fotografie voor beginners
DESCRIPTION:Bij macro fotografie word een kleine wereld groot. Ook dit jaar kunnen wij weer een aantal macro workshops aanbieden! De macro workshop zullen worden gegeven door Joris Vegter. Hij is winnaar van de National Geografie fotowedstrijd 2022 en dit jaar ook nog de winnaar van de groene camera! Echt een mega macro talent. Check vooral even zn insta op jornature86. Aanmelden kan via Huddle! Vol=Vol! \nLet op!\nDeze workshop is alleen voor leden van The PixelSquad. Wil je graag mee doen? Word nu lid en meld je aan voor de workshop.
URL:https://pixelsquad.nl/event/workshop-macro-fotografie-voor-beginners/
CATEGORIES:Workshop
ATTACH;FMTTYPE=image/jpeg:https://pixelsquad.nl/wp-content/uploads/2023/05/190339-img_8538.jpg
ORGANIZER;CN="The PixelSquad":MAILTO:info@pixelsquad.nl
END:VEVENT
END:VCALENDAR