BEGIN:VCALENDAR
VERSION:2.0
PRODID:-//The PixelSquad - ECPv6.15.20//NONSGML v1.0//EN
CALSCALE:GREGORIAN
METHOD:PUBLISH
X-ORIGINAL-URL:https://pixelsquad.nl
X-WR-CALDESC:Evenementen voor The PixelSquad
REFRESH-INTERVAL;VALUE=DURATION:PT1H
X-Robots-Tag:noindex
X-PUBLISHED-TTL:PT1H
BEGIN:VTIMEZONE
TZID:Europe/Amsterdam
BEGIN:DAYLIGHT
TZOFFSETFROM:+0100
TZOFFSETTO:+0200
TZNAME:CEST
DTSTART:20230326T010000
END:DAYLIGHT
BEGIN:STANDARD
TZOFFSETFROM:+0200
TZOFFSETTO:+0100
TZNAME:CET
DTSTART:20231029T010000
END:STANDARD
BEGIN:DAYLIGHT
TZOFFSETFROM:+0100
TZOFFSETTO:+0200
TZNAME:CEST
DTSTART:20240331T010000
END:DAYLIGHT
BEGIN:STANDARD
TZOFFSETFROM:+0200
TZOFFSETTO:+0100
TZNAME:CET
DTSTART:20241027T010000
END:STANDARD
BEGIN:DAYLIGHT
TZOFFSETFROM:+0100
TZOFFSETTO:+0200
TZNAME:CEST
DTSTART:20250330T010000
END:DAYLIGHT
BEGIN:STANDARD
TZOFFSETFROM:+0200
TZOFFSETTO:+0100
TZNAME:CET
DTSTART:20251026T010000
END:STANDARD
END:VTIMEZONE
BEGIN:VEVENT
DTSTART;TZID=Europe/Amsterdam:20241020T080000
DTEND;TZID=Europe/Amsterdam:20241020T110000
DTSTAMP:20260422T042109
CREATED:20241003T113926Z
LAST-MODIFIED:20241003T114053Z
UID:7157-1729411200-1729422000@pixelsquad.nl
SUMMARY:Open dag
DESCRIPTION:Ook al eens de sfeer willen proeven bij The PixelSquad? Kom dan 20 oktober naar de open dag. Deze open dag is ook voor niet-leden\nDus heb je een vriend\, vriendin\, kennis of buurman/vrouw die van fotograferen houdt? Neem ze gerust mee!\n\n\n\nHeb je nog vragen? Stuur ons gerust een bericht\n\n\n\nMeld je aan via onderstaande knop zodat wij weten dat jij er bij bent!\n\nMeld je aan!
URL:https://pixelsquad.nl/event/open-dag-2/
LOCATION:Poolshoogte\, Boswachter Meelkerlaan\, Odoorn\, Netherlands
CATEGORIES:Op pad met de Squad
ATTACH;FMTTYPE=image/jpeg:https://pixelsquad.nl/wp-content/uploads/2024/10/459992487_17982610967725867_2534052324916886994_n.jpg
ORGANIZER;CN="The PixelSquad":MAILTO:info@pixelsquad.nl
END:VEVENT
END:VCALENDAR