BEGIN:VCALENDAR
VERSION:2.0
PRODID:-//The PixelSquad - ECPv6.15.20//NONSGML v1.0//EN
CALSCALE:GREGORIAN
METHOD:PUBLISH
X-ORIGINAL-URL:https://pixelsquad.nl
X-WR-CALDESC:Evenementen voor The PixelSquad
REFRESH-INTERVAL;VALUE=DURATION:PT1H
X-Robots-Tag:noindex
X-PUBLISHED-TTL:PT1H
BEGIN:VTIMEZONE
TZID:Europe/Amsterdam
BEGIN:DAYLIGHT
TZOFFSETFROM:+0100
TZOFFSETTO:+0200
TZNAME:CEST
DTSTART:20230326T010000
END:DAYLIGHT
BEGIN:STANDARD
TZOFFSETFROM:+0200
TZOFFSETTO:+0100
TZNAME:CET
DTSTART:20231029T010000
END:STANDARD
BEGIN:DAYLIGHT
TZOFFSETFROM:+0100
TZOFFSETTO:+0200
TZNAME:CEST
DTSTART:20240331T010000
END:DAYLIGHT
BEGIN:STANDARD
TZOFFSETFROM:+0200
TZOFFSETTO:+0100
TZNAME:CET
DTSTART:20241027T010000
END:STANDARD
BEGIN:DAYLIGHT
TZOFFSETFROM:+0100
TZOFFSETTO:+0200
TZNAME:CEST
DTSTART:20250330T010000
END:DAYLIGHT
BEGIN:STANDARD
TZOFFSETFROM:+0200
TZOFFSETTO:+0100
TZNAME:CET
DTSTART:20251026T010000
END:STANDARD
END:VTIMEZONE
BEGIN:VEVENT
DTSTART;TZID=Europe/Amsterdam:20240914T170000
DTEND;TZID=Europe/Amsterdam:20240914T193000
DTSTAMP:20260423T185939
CREATED:20240829T112642Z
LAST-MODIFIED:20240829T112642Z
UID:7021-1726333200-1726342200@pixelsquad.nl
SUMMARY:Bootje varen met het Groninger landschap
DESCRIPTION:We gaaneen boottocht over het Zuidlaardermeer maken naar Tusschenwater. Daar lopen we een stukje en gaan daarna uiteraard weer terug! Onderweg zijn er vele mogelijkheden op prachtige foto’s te maken. \nLet op!\nDit uitje is alleen voor leden van The PixelSquad. Wil je graag mee doen? Word nu lid en meld je aan voor dit uitje.
URL:https://pixelsquad.nl/event/bootje-varen-met-het-groninger-landschap/
CATEGORIES:Op pad met de Squad
ATTACH;FMTTYPE=image/jpeg:https://pixelsquad.nl/wp-content/uploads/2024/08/Boot.jpeg
ORGANIZER;CN="The PixelSquad":MAILTO:info@pixelsquad.nl
END:VEVENT
END:VCALENDAR