BEGIN:VCALENDAR
VERSION:2.0
PRODID:-//The PixelSquad - ECPv6.15.20//NONSGML v1.0//EN
CALSCALE:GREGORIAN
METHOD:PUBLISH
X-WR-CALNAME:The PixelSquad
X-ORIGINAL-URL:https://pixelsquad.nl
X-WR-CALDESC:Evenementen voor The PixelSquad
REFRESH-INTERVAL;VALUE=DURATION:PT1H
X-Robots-Tag:noindex
X-PUBLISHED-TTL:PT1H
BEGIN:VTIMEZONE
TZID:Europe/Amsterdam
BEGIN:DAYLIGHT
TZOFFSETFROM:+0100
TZOFFSETTO:+0200
TZNAME:CEST
DTSTART:20230326T010000
END:DAYLIGHT
BEGIN:STANDARD
TZOFFSETFROM:+0200
TZOFFSETTO:+0100
TZNAME:CET
DTSTART:20231029T010000
END:STANDARD
BEGIN:DAYLIGHT
TZOFFSETFROM:+0100
TZOFFSETTO:+0200
TZNAME:CEST
DTSTART:20240331T010000
END:DAYLIGHT
BEGIN:STANDARD
TZOFFSETFROM:+0200
TZOFFSETTO:+0100
TZNAME:CET
DTSTART:20241027T010000
END:STANDARD
BEGIN:DAYLIGHT
TZOFFSETFROM:+0100
TZOFFSETTO:+0200
TZNAME:CEST
DTSTART:20250330T010000
END:DAYLIGHT
BEGIN:STANDARD
TZOFFSETFROM:+0200
TZOFFSETTO:+0100
TZNAME:CET
DTSTART:20251026T010000
END:STANDARD
END:VTIMEZONE
BEGIN:VEVENT
DTSTART;TZID=Europe/Amsterdam:20240901T063000
DTEND;TZID=Europe/Amsterdam:20240901T100000
DTSTAMP:20260423T185801
CREATED:20240829T112105Z
LAST-MODIFIED:20240829T112321Z
UID:7015-1725172200-1725184800@pixelsquad.nl
SUMMARY:Heide fotografie
DESCRIPTION:We gaan de heide fotograferen met zonsopkomst. De boswachter aldaar zal ons de mooiste plekjes laten zien zodat we prachtige foto’s kunnen maken. \nLet op!\nDit uitje is alleen voor leden van The PixelSquad. Wil je graag mee doen? Word nu lid en meld je aan voor dit uitje.
URL:https://pixelsquad.nl/event/workshop-macrofotografie-3/
CATEGORIES:Op pad met de Squad
ATTACH;FMTTYPE=image/jpeg:https://pixelsquad.nl/wp-content/uploads/2024/08/211958-f7bb3b4f-2925-446c-ba21-84f24d41daf4-1055-0000008c72bbec97.jpg
ORGANIZER;CN="The PixelSquad":MAILTO:info@pixelsquad.nl
END:VEVENT
END:VCALENDAR