BEGIN:VCALENDAR
VERSION:2.0
PRODID:-//The PixelSquad - ECPv6.15.20//NONSGML v1.0//EN
CALSCALE:GREGORIAN
METHOD:PUBLISH
X-ORIGINAL-URL:https://pixelsquad.nl
X-WR-CALDESC:Evenementen voor The PixelSquad
REFRESH-INTERVAL;VALUE=DURATION:PT1H
X-Robots-Tag:noindex
X-PUBLISHED-TTL:PT1H
BEGIN:VTIMEZONE
TZID:Europe/Amsterdam
BEGIN:DAYLIGHT
TZOFFSETFROM:+0100
TZOFFSETTO:+0200
TZNAME:CEST
DTSTART:20220327T010000
END:DAYLIGHT
BEGIN:STANDARD
TZOFFSETFROM:+0200
TZOFFSETTO:+0100
TZNAME:CET
DTSTART:20221030T010000
END:STANDARD
BEGIN:DAYLIGHT
TZOFFSETFROM:+0100
TZOFFSETTO:+0200
TZNAME:CEST
DTSTART:20230326T010000
END:DAYLIGHT
BEGIN:STANDARD
TZOFFSETFROM:+0200
TZOFFSETTO:+0100
TZNAME:CET
DTSTART:20231029T010000
END:STANDARD
BEGIN:DAYLIGHT
TZOFFSETFROM:+0100
TZOFFSETTO:+0200
TZNAME:CEST
DTSTART:20240331T010000
END:DAYLIGHT
BEGIN:STANDARD
TZOFFSETFROM:+0200
TZOFFSETTO:+0100
TZNAME:CET
DTSTART:20241027T010000
END:STANDARD
END:VTIMEZONE
BEGIN:VEVENT
DTSTART;TZID=Europe/Amsterdam:20230917T180000
DTEND;TZID=Europe/Amsterdam:20230917T213000
DTSTAMP:20260424T101822
CREATED:20230815T123351Z
LAST-MODIFIED:20230816T115658Z
UID:6469-1694973600-1694986200@pixelsquad.nl
SUMMARY:Open dag
DESCRIPTION:Ook al eens de sfeer willen proeven bij The PixelSquad? Kom dan 17 september naar de open dag. Deze open dag is ook voor niet-leden\nDus heb je een vriend\, vriendin\, kennis of buurman/vrouw die van fotograferen houdt? Neem ze gerust mee!\n\n\n\nHeb je nog vragen? Stuur ons gerust een bericht\n\n\n\nWij zouden het fijn vinden dat je je aanmeld\, zodat wij weten hoeveel fotografen wij kunnen verwacht.\n\n\nZien wij jou dan?
URL:https://pixelsquad.nl/event/open-dag/
LOCATION:Nije Hemelriekje\, Gasselte\, Drenthe\, 9462 TB\, Nederland
CATEGORIES:Op pad met de Squad
ATTACH;FMTTYPE=image/png:https://pixelsquad.nl/wp-content/uploads/2023/08/OPEN-DAG-5.png
ORGANIZER;CN="The PixelSquad":MAILTO:info@pixelsquad.nl
END:VEVENT
END:VCALENDAR