BEGIN:VCALENDAR
VERSION:2.0
PRODID:-//The PixelSquad - ECPv6.15.20//NONSGML v1.0//EN
CALSCALE:GREGORIAN
METHOD:PUBLISH
X-ORIGINAL-URL:https://pixelsquad.nl
X-WR-CALDESC:Evenementen voor The PixelSquad
REFRESH-INTERVAL;VALUE=DURATION:PT1H
X-Robots-Tag:noindex
X-PUBLISHED-TTL:PT1H
BEGIN:VTIMEZONE
TZID:Europe/Amsterdam
BEGIN:DAYLIGHT
TZOFFSETFROM:+0100
TZOFFSETTO:+0200
TZNAME:CEST
DTSTART:20230326T010000
END:DAYLIGHT
BEGIN:STANDARD
TZOFFSETFROM:+0200
TZOFFSETTO:+0100
TZNAME:CET
DTSTART:20231029T010000
END:STANDARD
BEGIN:DAYLIGHT
TZOFFSETFROM:+0100
TZOFFSETTO:+0200
TZNAME:CEST
DTSTART:20240331T010000
END:DAYLIGHT
BEGIN:STANDARD
TZOFFSETFROM:+0200
TZOFFSETTO:+0100
TZNAME:CET
DTSTART:20241027T010000
END:STANDARD
BEGIN:DAYLIGHT
TZOFFSETFROM:+0100
TZOFFSETTO:+0200
TZNAME:CEST
DTSTART:20250330T010000
END:DAYLIGHT
BEGIN:STANDARD
TZOFFSETFROM:+0200
TZOFFSETTO:+0100
TZNAME:CET
DTSTART:20251026T010000
END:STANDARD
END:VTIMEZONE
BEGIN:VEVENT
DTSTART;TZID=Europe/Amsterdam:20240609T110000
DTEND;TZID=Europe/Amsterdam:20240609T170000
DTSTAMP:20260423T213826
CREATED:20240222T134436Z
LAST-MODIFIED:20240303T080815Z
UID:6809-1717930800-1717952400@pixelsquad.nl
SUMMARY:The PixelExperience 2024
DESCRIPTION:Kom en ontdek de wereld van fotografie op onze speciale dag\, The PixelExperience\, georganiseerd door The Pixelsquad en Foto Sipkes. We hebben een geweldige dag voorbereid vol workshops en interessante lezingen. Daarnaast zullen er diverse grote fotomerken aanwezig zijn. Deze dag is voor iedereen die van fotografie houdt! \n???? Leer Nieuwe Dingen:\nDoe mee aan workshops\, gegeven door ervaren fotografen\, om je foto’s naar een hoger niveau te tillen. \n????️ Luister naar Boeiende Verhalen:\nOntmoet bekende en onbekende fotografen en laat je inspireren. \n???? Ontdek Nieuwe Gadgets:\nBekijk de nieuwste camera’s en accessoires die je foto’s nog beter maken. En ontdek handige diensten die je kunt gebruiken. \n???? Ontmoet Nieuwe Vrienden:\nKom langs en maak vrienden met dezelfde hobby. Deel je foto’s en praat met anderen die ook van fotograferen houden. \n???? Voor Iedereen Leuk:\nOf je nu een pro bent of net begint\, iedereen is welkom. Geniet van een dag vol fotografie samen met gelijkgestemden. \n\n\nBestel hier je ticketsMeer informatie
URL:https://pixelsquad.nl/event/the-pixelexperience-2024/
LOCATION:Het Wylde Pad\, Wyldpaed Oast 23\, Twijzelerheide\, Friesland\, 9287 VM\, Nederland
CATEGORIES:Op pad met de Squad
ATTACH;FMTTYPE=image/jpeg:https://pixelsquad.nl/wp-content/uploads/2023/08/WhatsApp-Image-2023-08-02-at-12.10.51.jpeg
ORGANIZER;CN="The PixelSquad":MAILTO:info@pixelsquad.nl
END:VEVENT
END:VCALENDAR