BEGIN:VCALENDAR
VERSION:2.0
PRODID:-//The PixelSquad - ECPv6.15.18//NONSGML v1.0//EN
CALSCALE:GREGORIAN
METHOD:PUBLISH
X-ORIGINAL-URL:https://pixelsquad.nl
X-WR-CALDESC:Evenementen voor The PixelSquad
REFRESH-INTERVAL;VALUE=DURATION:PT1H
X-Robots-Tag:noindex
X-PUBLISHED-TTL:PT1H
BEGIN:VTIMEZONE
TZID:Europe/Amsterdam
BEGIN:DAYLIGHT
TZOFFSETFROM:+0100
TZOFFSETTO:+0200
TZNAME:CEST
DTSTART:20230326T010000
END:DAYLIGHT
BEGIN:STANDARD
TZOFFSETFROM:+0200
TZOFFSETTO:+0100
TZNAME:CET
DTSTART:20231029T010000
END:STANDARD
BEGIN:DAYLIGHT
TZOFFSETFROM:+0100
TZOFFSETTO:+0200
TZNAME:CEST
DTSTART:20240331T010000
END:DAYLIGHT
BEGIN:STANDARD
TZOFFSETFROM:+0200
TZOFFSETTO:+0100
TZNAME:CET
DTSTART:20241027T010000
END:STANDARD
BEGIN:DAYLIGHT
TZOFFSETFROM:+0100
TZOFFSETTO:+0200
TZNAME:CEST
DTSTART:20250330T010000
END:DAYLIGHT
BEGIN:STANDARD
TZOFFSETFROM:+0200
TZOFFSETTO:+0100
TZNAME:CET
DTSTART:20251026T010000
END:STANDARD
END:VTIMEZONE
BEGIN:VEVENT
DTSTART;TZID=Europe/Amsterdam:20240321T190000
DTEND;TZID=Europe/Amsterdam:20240321T213000
DTSTAMP:20260420T092958
CREATED:20240222T133822Z
LAST-MODIFIED:20240222T133822Z
UID:6805-1711047600-1711056600@pixelsquad.nl
SUMMARY:Lezing Wilco van de Laan (wildlife fotograaf)
DESCRIPTION:“Ik geef als natuurfotograaf een Lezing over de wildlife voornamelijk in de natuur van groningen. Natuurlijk laat ik foto’s zien en vertel daar over maar ik geef voornamelijk praktische tips and tricks over gebruik van: telelenzen hulpmiddelen zoals statieven en andere hardware. Daarnaast het leren kennen van de omgeving\, waar vind je bijvoorbeeld een ijsvogel. Wat zijn de beste momenten van de dag of seizoenen in het jaar om te fotograferen. Hoe kan je opgaan in de omgeving als je niet in een fotohut zit?”\nWilco is een gepassioneerde natuurfotograaf en met zijn verhaal inspireert hij andere fotografen. In april gaat Wilco workshops verzorgen voor onze leden\, dus weet je al dat je daar bij wilt zijn\, dan is dit natuurlijk een mooi voorproefje en wil je deze lezing niet missen! \nLet op!\nDeze lezing is alleen voor leden van The PixelSquad. Wil jij deze lezing graag bijwonen? Word nu lid en meld je aan voor de lezing.
URL:https://pixelsquad.nl/event/lezing-wilco-van-de-laan-wildlife-fotograaf/
CATEGORIES:Lezingen
ATTACH;FMTTYPE=image/jpeg:https://pixelsquad.nl/wp-content/uploads/2024/02/Lezing-Wilco.jpeg
ORGANIZER;CN="The PixelSquad":MAILTO:info@pixelsquad.nl
END:VEVENT
BEGIN:VEVENT
DTSTART;TZID=Europe/Amsterdam:20240328T190000
DTEND;TZID=Europe/Amsterdam:20240328T213000
DTSTAMP:20260420T092958
CREATED:20240222T133943Z
LAST-MODIFIED:20240222T133943Z
UID:6807-1711652400-1711661400@pixelsquad.nl
SUMMARY:Lezing Tiebo Jacobs (Ondernemerscoach)
DESCRIPTION:Tiebo Jacobs is een veelzijdige ondernemer en runt het multimedia bureau 321Media. Gedreven en ervaren in het opzetten van succesvolle start-ups en het bouwen van merken vind hij passie in het begeleiden van niet alleen jouw idee\, product of dienst\, maar ook het scherpen en ontwikkelen van je eigen ondernemersmentaliteit. Wanneer je niet afgeschrikt raakt door doortastende inzichten en krachtige strategieën; die je dromen zomaar eens echt verwezenlijken\, dan is Tiebo je sparringpartner bij uitstek\, altijd klaar is voor de volgende stap. Zou je dus meer willen doen met fotografie? Wellicht wil je een onderneming opstarten of tips hoe je kunt starten. Dan wil je hier zeker bij zijn. \nWil je geïnspireerd worden op het gebied van ondernemen? Zorg dan dat je erbij bent! \nLet op!\nDeze lezing is alleen voor leden van The PixelSquad. Wil jij deze lezing graag bijwonen? Word nu lid en meld je aan voor de lezing.
URL:https://pixelsquad.nl/event/lezing-tiebo-jacobs-ondernemerscoach/
CATEGORIES:Lezingen
ATTACH;FMTTYPE=image/jpeg:https://pixelsquad.nl/wp-content/uploads/2024/02/Lezing-Tiebo.jpeg
ORGANIZER;CN="The PixelSquad":MAILTO:info@pixelsquad.nl
END:VEVENT
BEGIN:VEVENT
DTSTART;TZID=Europe/Amsterdam:20240912T193000
DTEND;TZID=Europe/Amsterdam:20240912T220000
DTSTAMP:20260420T092958
CREATED:20240829T112246Z
LAST-MODIFIED:20240829T112246Z
UID:7018-1726169400-1726178400@pixelsquad.nl
SUMMARY:Lezing Tiebo Jacobs (Ondernemerscoach)
DESCRIPTION:Tiebo Jacobs is een veelzijdige ondernemer en runt het multimedia bureau 321Media. Gedreven en ervaren in het opzetten van succesvolle start-ups en het bouwen van merken vind hij passie in het begeleiden van niet alleen jouw idee\, product of dienst\, maar ook het scherpen en ontwikkelen van je eigen ondernemersmentaliteit. Wanneer je niet afgeschrikt raakt door doortastende inzichten en krachtige strategieën; die je dromen zomaar eens echt verwezenlijken\, dan is Tiebo je sparringpartner bij uitstek\, altijd klaar is voor de volgende stap. Zou je dus meer willen doen met fotografie? Wellicht wil je een onderneming opstarten of tips hoe je kunt starten. Dan wil je hier zeker bij zijn. Wil je geïnspireerd worden op het gebied van ondernemen? Zorg dan dat je erbij bent! \nLet op!\nDeze lezing is alleen voor leden van The PixelSquad. Wil jij deze lezing graag bijwonen? Word nu lid en meld je aan voor de lezing.
URL:https://pixelsquad.nl/event/lezing-tiebo-jacobs-ondernemerscoach-2/
CATEGORIES:Lezingen
ATTACH;FMTTYPE=image/jpeg:https://pixelsquad.nl/wp-content/uploads/2024/02/Lezing-Tiebo.jpeg
ORGANIZER;CN="The PixelSquad":MAILTO:info@pixelsquad.nl
END:VEVENT
END:VCALENDAR