BEGIN:VCALENDAR
VERSION:2.0
PRODID:-//The PixelSquad - ECPv6.15.18//NONSGML v1.0//EN
CALSCALE:GREGORIAN
METHOD:PUBLISH
X-WR-CALNAME:The PixelSquad
X-ORIGINAL-URL:https://pixelsquad.nl
X-WR-CALDESC:Evenementen voor The PixelSquad
REFRESH-INTERVAL;VALUE=DURATION:PT1H
X-Robots-Tag:noindex
X-PUBLISHED-TTL:PT1H
BEGIN:VTIMEZONE
TZID:Europe/Amsterdam
BEGIN:DAYLIGHT
TZOFFSETFROM:+0100
TZOFFSETTO:+0200
TZNAME:CEST
DTSTART:20240331T010000
END:DAYLIGHT
BEGIN:STANDARD
TZOFFSETFROM:+0200
TZOFFSETTO:+0100
TZNAME:CET
DTSTART:20241027T010000
END:STANDARD
BEGIN:DAYLIGHT
TZOFFSETFROM:+0100
TZOFFSETTO:+0200
TZNAME:CEST
DTSTART:20250330T010000
END:DAYLIGHT
BEGIN:STANDARD
TZOFFSETFROM:+0200
TZOFFSETTO:+0100
TZNAME:CET
DTSTART:20251026T010000
END:STANDARD
BEGIN:DAYLIGHT
TZOFFSETFROM:+0100
TZOFFSETTO:+0200
TZNAME:CEST
DTSTART:20260329T010000
END:DAYLIGHT
BEGIN:STANDARD
TZOFFSETFROM:+0200
TZOFFSETTO:+0100
TZNAME:CET
DTSTART:20261025T010000
END:STANDARD
END:VTIMEZONE
BEGIN:VEVENT
DTSTART;TZID=Europe/Amsterdam:20251214T123000
DTEND;TZID=Europe/Amsterdam:20251214T170000
DTSTAMP:20260419T105812
CREATED:20260105T112237Z
LAST-MODIFIED:20260105T112237Z
UID:8575-1765715400-1765731600@pixelsquad.nl
SUMMARY:Lightroomdag
DESCRIPTION:Heb jij altijd al meer willen doen met Lightroom? Wil je jouw foto’s nog beter leren bewerken op een natuurlijke\, creatieve manier? Dan wil je de Lightroom Dag van The PixelSquad op 14 december niet missen! 📸 \nOp deze inspirerende dag kun je kiezen uit drie superleuke workshops. Elke workshop wordt twee keer gegeven (van 12:30–14:30 en van 15:00–17:00)\, zodat je zelf kunt kiezen welk onderwerp en tijdstip jou het best uitkomt. \n💡 De workshops: \n1️⃣ Basis Lightroom – door Melvin Jonker Leer hoe je Lightroom echt gebruikt: van het ordenen van je foto’s tot natuurlijk bewerken en begrijpen wat elk paneel doet. Perfect als je eindelijk grip wilt krijgen op Lightroom. \n2️⃣ Reis & Landschap – door Marion Stoffels Ontdek hoe Marion haar adembenemende reis- en landschapsfoto’s bewerkt. Ze deelt haar werkwijze\, tips en trucs en jij gaat zelf direct aan de slag met jouw beelden. \n3️⃣ Familie & Portret – door Laura Liewes Leer van Laura hoe zij zorgt voor warme\, natuurlijke huidtinten en een consistente stijl in haar portret- en familiefotografie. Ontdek haar workflow en pas het zelf toe! \nLet op!\nDeze workshop is alleen voor leden van The PixelSquad. Wil je graag mee doen? Word nu lid en meld je aan voor de workshops.
URL:https://pixelsquad.nl/event/lightroomdag/
CATEGORIES:Workshop
ATTACH;FMTTYPE=image/jpeg:https://pixelsquad.nl/wp-content/uploads/2026/01/113159-lightroom-cc-vs-lightroom-classic-logo-over-library-1024x603-1.jpg
END:VEVENT
END:VCALENDAR