BEGIN:VCALENDAR
VERSION:2.0
PRODID:-//The PixelSquad - ECPv6.15.18//NONSGML v1.0//EN
CALSCALE:GREGORIAN
METHOD:PUBLISH
X-ORIGINAL-URL:https://pixelsquad.nl
X-WR-CALDESC:Evenementen voor The PixelSquad
REFRESH-INTERVAL;VALUE=DURATION:PT1H
X-Robots-Tag:noindex
X-PUBLISHED-TTL:PT1H
BEGIN:VTIMEZONE
TZID:Europe/Amsterdam
BEGIN:DAYLIGHT
TZOFFSETFROM:+0100
TZOFFSETTO:+0200
TZNAME:CEST
DTSTART:20240331T010000
END:DAYLIGHT
BEGIN:STANDARD
TZOFFSETFROM:+0200
TZOFFSETTO:+0100
TZNAME:CET
DTSTART:20241027T010000
END:STANDARD
BEGIN:DAYLIGHT
TZOFFSETFROM:+0100
TZOFFSETTO:+0200
TZNAME:CEST
DTSTART:20250330T010000
END:DAYLIGHT
BEGIN:STANDARD
TZOFFSETFROM:+0200
TZOFFSETTO:+0100
TZNAME:CET
DTSTART:20251026T010000
END:STANDARD
BEGIN:DAYLIGHT
TZOFFSETFROM:+0100
TZOFFSETTO:+0200
TZNAME:CEST
DTSTART:20260329T010000
END:DAYLIGHT
BEGIN:STANDARD
TZOFFSETFROM:+0200
TZOFFSETTO:+0100
TZNAME:CET
DTSTART:20261025T010000
END:STANDARD
END:VTIMEZONE
BEGIN:VEVENT
DTSTART;TZID=Europe/Amsterdam:20251123T090000
DTEND;TZID=Europe/Amsterdam:20251123T160000
DTSTAMP:20260419T105945
CREATED:20260105T111511Z
LAST-MODIFIED:20260105T111511Z
UID:8567-1763888400-1763913600@pixelsquad.nl
SUMMARY:Masterclass Documentaire fotografie
DESCRIPTION:35 jaar is Sake al fotograaf. Hij wist al vanaf z’n tiende wat hij wilde gaan worden. Op z’n twaalfde werkte hij al bij de plaatselijke fotograaf om wat zakgeld te verdienen. Na de opleiding aan de Fotovakschool in Apeldoorn was hij werkzaam als fotolaborant. In 1981 werd hij zelfstandig fotograaf. Sinds 1987 was hij vaste fotocorrespondent voor NRC Handelsblad. Voor zijn werk ontving hij verschillende prijzen\, waaronder in 1990 een tweede prijs in de categorie Sport van de World Press Photo. Ook werd Elzinga tweemaal onderscheiden met een Zilveren Camera. \nEn nu neemt Sake ons mee in zijn wereld van fotografie. En niet zomaar een plek: Kamp Westerbork! \nTijdens deze masterclass vertelt Sake over zijn ervaringen maar ga je het zelf ook ervaren. Je gaat namelijk zelf een verhaal maken in foto’s op het kamp Westerbork zelf! \nLet op!\nDeze masterclass is alleen voor leden van The PixelSquad. Wil je graag mee doen? Word nu lid en meld je aan voor de masterclass.
URL:https://pixelsquad.nl/event/masterclass-documentaire-fotografie-2/
CATEGORIES:Masterclass
ATTACH;FMTTYPE=image/jpeg:https://pixelsquad.nl/wp-content/uploads/2026/01/161949-sake-elzinga.jpg
END:VEVENT
END:VCALENDAR