BEGIN:VCALENDAR
VERSION:2.0
PRODID:-//The PixelSquad - ECPv6.15.18//NONSGML v1.0//EN
CALSCALE:GREGORIAN
METHOD:PUBLISH
X-ORIGINAL-URL:https://pixelsquad.nl
X-WR-CALDESC:Evenementen voor The PixelSquad
REFRESH-INTERVAL;VALUE=DURATION:PT1H
X-Robots-Tag:noindex
X-PUBLISHED-TTL:PT1H
BEGIN:VTIMEZONE
TZID:Europe/Amsterdam
BEGIN:DAYLIGHT
TZOFFSETFROM:+0100
TZOFFSETTO:+0200
TZNAME:CEST
DTSTART:20240331T010000
END:DAYLIGHT
BEGIN:STANDARD
TZOFFSETFROM:+0200
TZOFFSETTO:+0100
TZNAME:CET
DTSTART:20241027T010000
END:STANDARD
BEGIN:DAYLIGHT
TZOFFSETFROM:+0100
TZOFFSETTO:+0200
TZNAME:CEST
DTSTART:20250330T010000
END:DAYLIGHT
BEGIN:STANDARD
TZOFFSETFROM:+0200
TZOFFSETTO:+0100
TZNAME:CET
DTSTART:20251026T010000
END:STANDARD
BEGIN:DAYLIGHT
TZOFFSETFROM:+0100
TZOFFSETTO:+0200
TZNAME:CEST
DTSTART:20260329T010000
END:DAYLIGHT
BEGIN:STANDARD
TZOFFSETFROM:+0200
TZOFFSETTO:+0100
TZNAME:CET
DTSTART:20261025T010000
END:STANDARD
END:VTIMEZONE
BEGIN:VEVENT
DTSTART;TZID=Europe/Amsterdam:20251011T090000
DTEND;TZID=Europe/Amsterdam:20251011T120000
DTSTAMP:20260419T105854
CREATED:20260105T110912Z
LAST-MODIFIED:20260105T110912Z
UID:8553-1760173200-1760184000@pixelsquad.nl
SUMMARY:Workshop Herfstfotografie
DESCRIPTION:Wilco neemt je mee in zijn wereld van fotografie en voor degenen die hem nog niet kennen: Dat wordt feest! Zelden zul je iemand zien die enthousiaster en gepassioneerder is dan die man.  \nVoor deze workshop heb je weinig ervaring nodig. Je gaat samen met Wilco de heemtuin in\, op zoek naar al het moois wat de natuur heeft de bieden. Denk aan paddestoelen\, maar ook andere zaken wat de natuur zo mooi maakt. Groothoek\, tele\, macro\, alles mag mee!  \nLet op!\nDeze workshop is alleen voor leden van The PixelSquad. Wil je graag mee doen? Word nu lid en meld je aan voor de workshop.
URL:https://pixelsquad.nl/event/workshop-herfstfotografie/
CATEGORIES:Workshop
ATTACH;FMTTYPE=image/jpeg:https://pixelsquad.nl/wp-content/uploads/2026/01/073553-e9a26e67-fb6d-468d-af0b-dce2e45872b6.jpg
END:VEVENT
END:VCALENDAR