BEGIN:VCALENDAR
VERSION:2.0
PRODID:-//The PixelSquad - ECPv6.15.18//NONSGML v1.0//EN
CALSCALE:GREGORIAN
METHOD:PUBLISH
X-WR-CALNAME:The PixelSquad
X-ORIGINAL-URL:https://pixelsquad.nl
X-WR-CALDESC:Evenementen voor The PixelSquad
REFRESH-INTERVAL;VALUE=DURATION:PT1H
X-Robots-Tag:noindex
X-PUBLISHED-TTL:PT1H
BEGIN:VTIMEZONE
TZID:Europe/Amsterdam
BEGIN:DAYLIGHT
TZOFFSETFROM:+0100
TZOFFSETTO:+0200
TZNAME:CEST
DTSTART:20240331T010000
END:DAYLIGHT
BEGIN:STANDARD
TZOFFSETFROM:+0200
TZOFFSETTO:+0100
TZNAME:CET
DTSTART:20241027T010000
END:STANDARD
BEGIN:DAYLIGHT
TZOFFSETFROM:+0100
TZOFFSETTO:+0200
TZNAME:CEST
DTSTART:20250330T010000
END:DAYLIGHT
BEGIN:STANDARD
TZOFFSETFROM:+0200
TZOFFSETTO:+0100
TZNAME:CET
DTSTART:20251026T010000
END:STANDARD
BEGIN:DAYLIGHT
TZOFFSETFROM:+0100
TZOFFSETTO:+0200
TZNAME:CEST
DTSTART:20260329T010000
END:DAYLIGHT
BEGIN:STANDARD
TZOFFSETFROM:+0200
TZOFFSETTO:+0100
TZNAME:CET
DTSTART:20261025T010000
END:STANDARD
END:VTIMEZONE
BEGIN:VEVENT
DTSTART;TZID=Europe/Amsterdam:20250907T090000
DTEND;TZID=Europe/Amsterdam:20250907T160000
DTSTAMP:20260418T210108
CREATED:20250826T172034Z
LAST-MODIFIED:20250826T172240Z
UID:8333-1757235600-1757260800@pixelsquad.nl
SUMMARY:Masterclass Styled Portretshoot
DESCRIPTION:Altijd al portretfoto’s willen maken\, maar weet je niet goed hoe je jouw model aanstuurt? Hoe je werkt met daglicht of styling? Tijdens deze masterclass nemen we je stap voor stap mee in het creatieve proces van een styled shoot. Visagie is geregeld — net als de modellen\, die volledig gestyled klaarstaan. \nDe masterclass word gegeven door Jolien Norder en Louisa Bosma. Zij hebben beide veel ervaring binnen portretfotografie en leren jou alle ins en outs. \nLet op!\nDeze masterclass is alleen voor leden van The PixelSquad. Wil je graag mee doen? Word nu lid en meld je aan voor de masterclass.
URL:https://pixelsquad.nl/event/masterclass-styled-portretshoot/
CATEGORIES:Masterclass
ATTACH;FMTTYPE=image/jpeg:https://pixelsquad.nl/wp-content/uploads/2025/08/IMG_3726.jpg
END:VEVENT
END:VCALENDAR